BEGIN:VCALENDAR
VERSION:2.0
PRODID:-//Bullock Guitar - ECPv6.15.3//NONSGML v1.0//EN
CALSCALE:GREGORIAN
METHOD:PUBLISH
X-ORIGINAL-URL:https://bullockguitardev.nicolekiki.com
X-WR-CALDESC:Events for Bullock Guitar
REFRESH-INTERVAL;VALUE=DURATION:PT1H
X-Robots-Tag:noindex
X-PUBLISHED-TTL:PT1H
BEGIN:VTIMEZONE
TZID:America/Los_Angeles
BEGIN:DAYLIGHT
TZOFFSETFROM:-0800
TZOFFSETTO:-0700
TZNAME:PDT
DTSTART:20220313T100000
END:DAYLIGHT
BEGIN:STANDARD
TZOFFSETFROM:-0700
TZOFFSETTO:-0800
TZNAME:PST
DTSTART:20221106T090000
END:STANDARD
END:VTIMEZONE
BEGIN:VEVENT
DTSTART;TZID=America/Los_Angeles:20220719T063000
DTEND;TZID=America/Los_Angeles:20220719T210000
DTSTAMP:20260423T173037
CREATED:20220525T182952Z
LAST-MODIFIED:20220525T182952Z
UID:201-1658212200-1658264400@bullockguitardev.nicolekiki.com
SUMMARY:Guitar Nights
DESCRIPTION:
URL:https://bullockguitardev.nicolekiki.com/event/guitar-nights-6/
LOCATION:Aztec Hotel\, 311 W. Foothill Blvd. \, CA 91016\, Monrovia\, CA\, 91016\, United States
CATEGORIES:Guitar Nights
END:VEVENT
BEGIN:VEVENT
DTSTART;TZID=America/Los_Angeles:20220712T183000
DTEND;TZID=America/Los_Angeles:20220712T210000
DTSTAMP:20260423T173037
CREATED:20220525T182928Z
LAST-MODIFIED:20220525T182928Z
UID:199-1657650600-1657659600@bullockguitardev.nicolekiki.com
SUMMARY:Guitar Nights
DESCRIPTION:
URL:https://bullockguitardev.nicolekiki.com/event/guitar-nights-5/
LOCATION:Aztec Hotel\, 311 W. Foothill Blvd. \, CA 91016\, Monrovia\, CA\, 91016\, United States
CATEGORIES:Guitar Nights
END:VEVENT
BEGIN:VEVENT
DTSTART;TZID=America/Los_Angeles:20220705T183000
DTEND;TZID=America/Los_Angeles:20220705T210000
DTSTAMP:20260423T173037
CREATED:20220525T182909Z
LAST-MODIFIED:20220525T182909Z
UID:197-1657045800-1657054800@bullockguitardev.nicolekiki.com
SUMMARY:Guitar Nights
DESCRIPTION:
URL:https://bullockguitardev.nicolekiki.com/event/guitar-nights-4/
LOCATION:Aztec Hotel\, 311 W. Foothill Blvd. \, CA 91016\, Monrovia\, CA\, 91016\, United States
CATEGORIES:Guitar Nights
END:VEVENT
BEGIN:VEVENT
DTSTART;TZID=America/Los_Angeles:20220628T183000
DTEND;TZID=America/Los_Angeles:20220628T210000
DTSTAMP:20260423T173037
CREATED:20220525T182840Z
LAST-MODIFIED:20220525T183000Z
UID:195-1656441000-1656450000@bullockguitardev.nicolekiki.com
SUMMARY:Guitar Nights
DESCRIPTION:
URL:https://bullockguitardev.nicolekiki.com/event/guitar-nights-3/
LOCATION:Aztec Hotel\, 311 W. Foothill Blvd. \, CA 91016\, Monrovia\, CA\, 91016\, United States
CATEGORIES:Guitar Nights
END:VEVENT
BEGIN:VEVENT
DTSTART;TZID=America/Los_Angeles:20220621T183000
DTEND;TZID=America/Los_Angeles:20220621T210000
DTSTAMP:20260423T173037
CREATED:20220525T182811Z
LAST-MODIFIED:20220525T183013Z
UID:193-1655836200-1655845200@bullockguitardev.nicolekiki.com
SUMMARY:Guitar Nights
DESCRIPTION:
URL:https://bullockguitardev.nicolekiki.com/event/guitar-nights-2/
LOCATION:Aztec Hotel\, 311 W. Foothill Blvd. \, CA 91016\, Monrovia\, CA\, 91016\, United States
CATEGORIES:Guitar Nights
END:VEVENT
BEGIN:VEVENT
DTSTART;TZID=America/Los_Angeles:20220614T183000
DTEND;TZID=America/Los_Angeles:20220614T210000
DTSTAMP:20260423T173037
CREATED:20220525T182404Z
LAST-MODIFIED:20220527T032338Z
UID:191-1655231400-1655240400@bullockguitardev.nicolekiki.com
SUMMARY:Guitar Nights
DESCRIPTION:Featuring Trio Casablanca\, Boleros & John Storie\, jazz guitar
URL:https://bullockguitardev.nicolekiki.com/event/guitar-nights/
LOCATION:Aztec Hotel\, 311 W. Foothill Blvd. \, CA 91016\, Monrovia\, CA\, 91016\, United States
CATEGORIES:Guitar Nights
END:VEVENT
END:VCALENDAR